BEGIN:VCALENDAR
VERSION:2.0
PRODID:-//GEO-Zentrum an der KTB - ECPv5.0.2//NONSGML v1.0//EN
CALSCALE:GREGORIAN
METHOD:PUBLISH
X-WR-CALNAME:GEO-Zentrum an der KTB
X-ORIGINAL-URL:https://www.geozentrum-ktb.de
X-WR-CALDESC:Veranstaltungen im GEO-Zentrum an der KTB
BEGIN:VTIMEZONE
TZID:Europe/Berlin
BEGIN:DAYLIGHT
TZOFFSETFROM:+0100
TZOFFSETTO:+0200
TZNAME:CEST
DTSTART:20260329T010000
END:DAYLIGHT
BEGIN:STANDARD
TZOFFSETFROM:+0200
TZOFFSETTO:+0100
TZNAME:CET
DTSTART:20261025T010000
END:STANDARD
END:VTIMEZONE
BEGIN:VEVENT
DTSTART;TZID=Europe/Berlin:20260630T100000
DTEND;TZID=Europe/Berlin:20260630T160000
DTSTAMP:20260422T071920
CREATED:20260403T190501Z
LAST-MODIFIED:20260403T190528Z
UID:7618-1782813600-1782835200@www.geozentrum-ktb.de
SUMMARY:Strategiesitzung Boden und Geologie
DESCRIPTION:Sonderveranstaltung der Akademie für Naturschutz und Landschaftspflege. \nBöden und geologische Ressourcen bilden das Rückgrat der Existenz und der Zukunft der Menschen\, Pflanzen und Tiere\, daher ist das Wissen über diese natürlichen aber nicht erneuerbaren Ressourcen so wichtig. \nDie Strategiesitzung hat zum Ziel\, die im Bereich Schul- und Umweltbildung in Bayern tätigen Akteure in einem Netzwerk zusammenzuführen und einen Austausch zu ermöglichen\, sowie bestehende Strategien für Veranstaltungen\, Lehrerfortbildungen\, Aktionen und Projekte mit dem Schwerpunkt Boden und Geologie weiterzuentwickeln. \n
URL:https://www.geozentrum-ktb.de/veranstaltung/strategiesitzung-boden-und-geologie-2/
LOCATION:GEO-Zentrum an der KTB
CATEGORIES:Geschlossene Veranstaltung
ATTACH;FMTTYPE=image/jpeg:https://www.geozentrum-ktb.de/wp-content/uploads/2023/04/2023-Strategiesitzung-Geologie-scaled.jpg
END:VEVENT
END:VCALENDAR