BEGIN:VCALENDAR
VERSION:2.0
PRODID:-//GEO-Zentrum an der KTB - ECPv5.0.2//NONSGML v1.0//EN
CALSCALE:GREGORIAN
METHOD:PUBLISH
X-WR-CALNAME:GEO-Zentrum an der KTB
X-ORIGINAL-URL:https://www.geozentrum-ktb.de
X-WR-CALDESC:Veranstaltungen im GEO-Zentrum an der KTB
BEGIN:VTIMEZONE
TZID:Europe/Berlin
BEGIN:DAYLIGHT
TZOFFSETFROM:+0100
TZOFFSETTO:+0200
TZNAME:CEST
DTSTART:20260329T010000
END:DAYLIGHT
BEGIN:STANDARD
TZOFFSETFROM:+0200
TZOFFSETTO:+0100
TZNAME:CET
DTSTART:20261025T010000
END:STANDARD
END:VTIMEZONE
BEGIN:VEVENT
DTSTART;TZID=Europe/Berlin:20260707T090000
DTEND;TZID=Europe/Berlin:20260707T120000
DTSTAMP:20260422T083358
CREATED:20260403T191400Z
LAST-MODIFIED:20260403T191400Z
UID:7626-1783414800-1783425600@www.geozentrum-ktb.de
SUMMARY:Schulklassenprogramm Geländeexkursion
DESCRIPTION:Programm des Tages: Lernmodul Geologische Geländeexkursion. Für Referendare im Geografie-Seminar Gymnasium. Weitere Infos finden Sie hier.\n \n
URL:https://www.geozentrum-ktb.de/veranstaltung/schulklassenprogramm-gelaendeexkursion-22/
LOCATION:GEO-Labor
CATEGORIES:Geschlossene Veranstaltung
ATTACH;FMTTYPE=image/jpeg:https://www.geozentrum-ktb.de/wp-content/uploads/2022/07/Exkursion-Parkstein-scaled.jpg
END:VEVENT
END:VCALENDAR