BEGIN:VCALENDAR
VERSION:2.0
PRODID:-//GEO-Zentrum an der KTB - ECPv5.0.2//NONSGML v1.0//EN
CALSCALE:GREGORIAN
METHOD:PUBLISH
X-WR-CALNAME:GEO-Zentrum an der KTB
X-ORIGINAL-URL:https://www.geozentrum-ktb.de
X-WR-CALDESC:Veranstaltungen im GEO-Zentrum an der KTB
BEGIN:VTIMEZONE
TZID:Europe/Berlin
BEGIN:DAYLIGHT
TZOFFSETFROM:+0100
TZOFFSETTO:+0200
TZNAME:CEST
DTSTART:20250330T010000
END:DAYLIGHT
BEGIN:STANDARD
TZOFFSETFROM:+0200
TZOFFSETTO:+0100
TZNAME:CET
DTSTART:20251026T010000
END:STANDARD
END:VTIMEZONE
BEGIN:VEVENT
DTSTART;TZID=Europe/Berlin:20251019T180000
DTEND;TZID=Europe/Berlin:20251019T200000
DTSTAMP:20260422T120519
CREATED:20250922T085738Z
LAST-MODIFIED:20250922T101908Z
UID:6876-1760896800-1760904000@www.geozentrum-ktb.de
SUMMARY:Konzert
DESCRIPTION:Konzert mit Viola Schweinfurter (Flöte)\, Julia Schubert (Flöte)\, Elke Linkel (Flöte)\, Markus Krisch (Oboe\, Englischhorn)\, Renate Konrad (Fagott) und Susanne Karban (Violoncello). \nDie Musikerinnen und Musiker um die bekannte Flötistin Viola Schweinfurter aus Bärnau spielen ein abwechslungsreiches Programm aus Werken von Georg Philipp Telemann\, Carl Friedrich Abel\, Ludwig von Beethoven\, Carl Stamitz und Leonhard von Call. \nMit ihrem Programm versprechen die Künstlerinnen und Künstler einen interessanten musikalischen Genuss. \nEintritt frei\, Spenden erwünscht. Den Erlös spenden die Künstlerinnen und Künstler dem Förder- und Trägerverein GEO-Zentrum an der KTB e.V. für die Bildungsarbeit in seinem Schülerlabor. \n
URL:https://www.geozentrum-ktb.de/veranstaltung/konzert/
LOCATION:GEO-Zentrum an der KTB
CATEGORIES:Ohne Anmeldung
ATTACH;FMTTYPE=image/jpeg:https://www.geozentrum-ktb.de/wp-content/uploads/2025/09/2025_Ankündigung-Foto-scaled.jpg
END:VEVENT
END:VCALENDAR