BEGIN:VCALENDAR
VERSION:2.0
PRODID:-//GEO-Zentrum an der KTB - ECPv5.0.2//NONSGML v1.0//EN
CALSCALE:GREGORIAN
METHOD:PUBLISH
X-WR-CALNAME:GEO-Zentrum an der KTB
X-ORIGINAL-URL:https://www.geozentrum-ktb.de
X-WR-CALDESC:Veranstaltungen im GEO-Zentrum an der KTB
BEGIN:VTIMEZONE
TZID:Europe/Berlin
BEGIN:DAYLIGHT
TZOFFSETFROM:+0100
TZOFFSETTO:+0200
TZNAME:CEST
DTSTART:20260329T010000
END:DAYLIGHT
BEGIN:STANDARD
TZOFFSETFROM:+0200
TZOFFSETTO:+0100
TZNAME:CET
DTSTART:20261025T010000
END:STANDARD
END:VTIMEZONE
BEGIN:VEVENT
DTSTART;TZID=Europe/Berlin:20260129T190000
DTEND;TZID=Europe/Berlin:20260129T203000
DTSTAMP:20260422T090659
CREATED:20260119T094016Z
LAST-MODIFIED:20260119T094318Z
UID:7439-1769713200-1769718600@www.geozentrum-ktb.de
SUMMARY:Klima und Umweltschutzleistungen des ökologischen Landbaus
DESCRIPTION:Vortrag von Prof. Dr. Kurt-Jürgen Hülsbergen\, Technische Universität München (TUM) \n\nWie Bio-Landbau unser Klima schützt – wissenschaftlich belegt! Was hat Landwirtschaft mit Klimaschutz zu tun? Eine ganze Menge! Basierend auf einer langjährigen Studie der Technischen Universität München gibt Prof. Dr. Hülsbergen exklusive Einblicke in ein deutschlandweites Netzwerk von 80 Bio-Pilotbetrieben – davon 20 in Bayern. Untersucht wurden u. a.:\n\n\n Stickstoffkreisläufe\n Humusaufbau & Kohlenstoffbindung\n Energieeffizienz\n Treibhausgas- & Klimabilanzen\n\n\nDas Ergebnis:\nÖkologischer Landbau punktet mit geringeren Treibhausgasemissionen\, höherer Energieeffizienz und einem großen Einsparpotenzial bei Umwelt- und Klimafolgekosten. Vielfältige Fruchtfolgen\, Leguminosen und geschlossene Stoffkreisläufe machen den Unterschied – für unsere Böden\, unser Klima und kommende Generationen.\n\n\nIm Anschluss lädt der Abend zum Austausch und Gespräch ein.\n\n\n\nDie Veranstaltungen gehört zum Winterprogramm der Bio-Erlebnisse der Öko-Modellregion Steinwald\, das Naturerlebnisse\, Bewusstseinsbildung und regionale Wertschöpfung miteinander verbindet.\n\n\nZur besseren Planbarkeit wird um Anmeldung bei der Steinwald-Allianz gebeten: 09682 / 182219-0\ninfo@steinwald-allianz.de\n\n\nOnline-Anmeldung:\nhttps://direct.bookingandmore.com/&#8230;/3a992b03-c89f-4730&#8230;\n\n\nKosten: 0\,00 €; weitere Infos unter 09681-400430. \n
URL:https://www.geozentrum-ktb.de/veranstaltung/klima-und-umweltschutzleistungen-des-oekologischen-landbaus/
LOCATION:GEO-Zentrum an der KTB
CATEGORIES:Ohne Anmeldung
ATTACH;FMTTYPE=image/jpeg:https://www.geozentrum-ktb.de/wp-content/uploads/2026/01/Kornblume.jpg
END:VEVENT
END:VCALENDAR