BEGIN:VCALENDAR
VERSION:2.0
PRODID:-//GEO-Zentrum an der KTB - ECPv5.0.2//NONSGML v1.0//EN
CALSCALE:GREGORIAN
METHOD:PUBLISH
X-WR-CALNAME:GEO-Zentrum an der KTB
X-ORIGINAL-URL:https://www.geozentrum-ktb.de
X-WR-CALDESC:Veranstaltungen im GEO-Zentrum an der KTB
BEGIN:VTIMEZONE
TZID:Europe/Berlin
BEGIN:DAYLIGHT
TZOFFSETFROM:+0100
TZOFFSETTO:+0200
TZNAME:CEST
DTSTART:20250330T010000
END:DAYLIGHT
BEGIN:STANDARD
TZOFFSETFROM:+0200
TZOFFSETTO:+0100
TZNAME:CET
DTSTART:20251026T010000
END:STANDARD
END:VTIMEZONE
BEGIN:VEVENT
DTSTART;TZID=Europe/Berlin:20250505T153000
DTEND;TZID=Europe/Berlin:20250505T163000
DTSTAMP:20260422T213200
CREATED:20250818T203112Z
LAST-MODIFIED:20250818T203112Z
UID:6818-1746459000-1746462600@www.geozentrum-ktb.de
SUMMARY:Jahresmitgliederversammlung GEO-Zentrum an der KTB e.V.
DESCRIPTION:Ordentliche Jahresmitgliederversammlung des Förder- und Trägervereins &#8220;GEO-Zentrum an der KTB e.V.&#8221; \n
URL:https://www.geozentrum-ktb.de/veranstaltung/jahresmitgliederversammlung-geo-zentrum-an-der-ktb-e-v-2/
LOCATION:Dieter Betz-Saal
CATEGORIES:Geschlossene Veranstaltung
END:VEVENT
END:VCALENDAR