BEGIN:VCALENDAR
VERSION:2.0
PRODID:-//GEO-Zentrum an der KTB - ECPv5.0.2//NONSGML v1.0//EN
CALSCALE:GREGORIAN
METHOD:PUBLISH
X-WR-CALNAME:GEO-Zentrum an der KTB
X-ORIGINAL-URL:https://www.geozentrum-ktb.de
X-WR-CALDESC:Veranstaltungen im GEO-Zentrum an der KTB
BEGIN:VTIMEZONE
TZID:Europe/Berlin
BEGIN:DAYLIGHT
TZOFFSETFROM:+0100
TZOFFSETTO:+0200
TZNAME:CEST
DTSTART:20250330T010000
END:DAYLIGHT
BEGIN:STANDARD
TZOFFSETFROM:+0200
TZOFFSETTO:+0100
TZNAME:CET
DTSTART:20251026T010000
END:STANDARD
END:VTIMEZONE
BEGIN:VEVENT
DTSTART;TZID=Europe/Berlin:20251118T170000
DTEND;TZID=Europe/Berlin:20251118T190000
DTSTAMP:20260422T090438
CREATED:20250818T202512Z
LAST-MODIFIED:20250818T202512Z
UID:6807-1763485200-1763492400@www.geozentrum-ktb.de
SUMMARY:Infoabend 50 Jahre Naturpark Nördlicher Oberpfälzer Wald
DESCRIPTION:Tauchen Sie mit uns ein in die faszinierende Welt der Natur und Kulturlandschaft in unserer Region und erfahren Sie „aus erster Hand“ interessantes über unsere vielfältigen Aufgaben und Projekte.\nInformationen zum Geozentrum und der KTB aus „erster Hand“ sowie eine exklusive Führung durch das Infozentrum dürfen natürlich nicht fehlen! \nAn diesem Abend haben Sie die Gelegenheit\, mehr über den Schutz unserer heimischen Flora und Fauna zu lernen\, spannende Einblicke in unsere tägliche Arbeit zu gewinnen und herauszufinden\, wie auch Sie aktiv zum Erhalt unserer wertvollen Landschaft beitragen können. Unser Team steht bereit\, um Ihre Fragen zu beantworten\, gemäß unserem Naturparkmotto: „Im Einklang zwischen Natur und Kultur“. \nInfos zur ANMELDUNG finden Sie hier.\n\n \n
URL:https://www.geozentrum-ktb.de/veranstaltung/infoabend-50-jahre-naturpark-noerdlicher-oberpfaelzer-wald/
LOCATION:Dieter Betz-Saal
CATEGORIES:Geschlossene Veranstaltung
ATTACH;FMTTYPE=image/jpeg:https://www.geozentrum-ktb.de/wp-content/uploads/2025/08/2025-11-18_Infoabend_KTB-1-1.jpg
END:VEVENT
END:VCALENDAR