BEGIN:VCALENDAR
VERSION:2.0
PRODID:-//GEO-Zentrum an der KTB - ECPv5.0.2//NONSGML v1.0//EN
CALSCALE:GREGORIAN
METHOD:PUBLISH
X-WR-CALNAME:GEO-Zentrum an der KTB
X-ORIGINAL-URL:https://www.geozentrum-ktb.de
X-WR-CALDESC:Veranstaltungen im GEO-Zentrum an der KTB
BEGIN:VTIMEZONE
TZID:Europe/Berlin
BEGIN:DAYLIGHT
TZOFFSETFROM:+0100
TZOFFSETTO:+0200
TZNAME:CEST
DTSTART:20260329T010000
END:DAYLIGHT
BEGIN:STANDARD
TZOFFSETFROM:+0200
TZOFFSETTO:+0100
TZNAME:CET
DTSTART:20261025T010000
END:STANDARD
END:VTIMEZONE
BEGIN:VEVENT
DTSTART;TZID=Europe/Berlin:20261202T090000
DTEND;TZID=Europe/Berlin:20261202T170000
DTSTAMP:20260422T101505
CREATED:20260404T185156Z
LAST-MODIFIED:20260404T185156Z
UID:7674-1796202000-1796230800@www.geozentrum-ktb.de
SUMMARY:Forum Klimaschutz und nachhaltige Entwicklung
DESCRIPTION:Das Forum &#8220;Klimaschutz und nachhaltige Entwicklung&#8221; wird veranstaltet von der EMN Europäische Metropolregion Nürnberg e.V. \nAnmeldung nur über die Europäische Metropolregion Nürnberg. \n
URL:https://www.geozentrum-ktb.de/veranstaltung/forum-klimaschutz-nachhaltige-entwickung/
LOCATION:GEO-Zentrum an der KTB
CATEGORIES:Mit Anmeldung
ATTACH;FMTTYPE=image/jpeg:https://www.geozentrum-ktb.de/wp-content/uploads/2026/04/SDGs-BNE.jpg
END:VEVENT
END:VCALENDAR