BEGIN:VCALENDAR
VERSION:2.0
PRODID:-//GEO-Zentrum an der KTB - ECPv5.0.2//NONSGML v1.0//EN
CALSCALE:GREGORIAN
METHOD:PUBLISH
X-WR-CALNAME:GEO-Zentrum an der KTB
X-ORIGINAL-URL:https://www.geozentrum-ktb.de
X-WR-CALDESC:Veranstaltungen im GEO-Zentrum an der KTB
BEGIN:VTIMEZONE
TZID:Europe/Berlin
BEGIN:DAYLIGHT
TZOFFSETFROM:+0100
TZOFFSETTO:+0200
TZNAME:CEST
DTSTART:20240331T010000
END:DAYLIGHT
BEGIN:STANDARD
TZOFFSETFROM:+0200
TZOFFSETTO:+0100
TZNAME:CET
DTSTART:20241027T010000
END:STANDARD
END:VTIMEZONE
BEGIN:VEVENT
DTSTART;TZID=Europe/Berlin:20240617T100000
DTEND;TZID=Europe/Berlin:20240617T160000
DTSTAMP:20260422T132943
CREATED:20240505T143715Z
LAST-MODIFIED:20240505T143715Z
UID:5938-1718618400-1718640000@www.geozentrum-ktb.de
SUMMARY:Fortbildung: Geologie und Boden für Naturparkranger in der Oberpfalz - Abschnitt 2
DESCRIPTION:Zielgruppe: Naturparkranger in der Oberpfalz\n \nDie geologischen Verhältnisse Bayerns sind enorm vielfältig. Von den alten Granit- und Gneisgebirgen Ostbayerns über die Sand- und Kalklandschaften Frankens und die eiszeitlichen Moränenzüge und Schotterebenen südlich der Donau bis hin zu heute aktiven Alpengebirge ist die Geologie Bayerns ein weitgehend vollständiges Archiv der Erdgeschichte der letzten 600 Millionen Jahre. Diese Vielfalt bildet sich direkt auch in den Böden des Freistaats ab. \nDiese Fortbildungsserie ist speziell für Naturparkranger konzipiert. Sie soll ein Grundverständnis für die Geologie und die Bodenentwicklung schaffen. Neben einführenden Referaten und Geländebegehungen werden anhand anschaulicher Experimente und verständlicher Modelle methodische Ansätze speziell für die Bildungsarbeit in den Naturparkkindergärten und -schulen vorgestellt. \nInhalte im &#8220;Abschnitt 2: Mit Kindern Geologie und Boden erkunden&#8221; sind Methoden zur praktischen Arbeit mit Kindern. Wir erforschen dazu die Welt der Steine und machen uns kindgerecht Gedanken um den Kreislauf der Gesteine. Ebenso entdecken und erkunden wird den Boden und sein Ökosystem und machen einfache Versuche zu den Funktionen der Böden. \nFür den Veranstaltungsflyer mit weiteren Informationen bitte hier klicken. \nAnmeldung: info@geozentrum-ktb.de \n
URL:https://www.geozentrum-ktb.de/veranstaltung/fortbildung-geologie-und-boden-fuer-naturparkranger-in-der-oberpfalz-abschnitt-2/
LOCATION:GEO-Zentrum an der KTB
CATEGORIES:Mit Anmeldung
ATTACH;FMTTYPE=image/jpeg:https://www.geozentrum-ktb.de/wp-content/uploads/2023/02/2023-FB-Naturparke-2.jpg
END:VEVENT
END:VCALENDAR