BEGIN:VCALENDAR
VERSION:2.0
PRODID:-//GEO-Zentrum an der KTB - ECPv5.0.2//NONSGML v1.0//EN
CALSCALE:GREGORIAN
METHOD:PUBLISH
X-WR-CALNAME:GEO-Zentrum an der KTB
X-ORIGINAL-URL:https://www.geozentrum-ktb.de
X-WR-CALDESC:Veranstaltungen im GEO-Zentrum an der KTB
BEGIN:VTIMEZONE
TZID:Europe/Berlin
BEGIN:DAYLIGHT
TZOFFSETFROM:+0100
TZOFFSETTO:+0200
TZNAME:CEST
DTSTART:20250330T010000
END:DAYLIGHT
BEGIN:STANDARD
TZOFFSETFROM:+0200
TZOFFSETTO:+0100
TZNAME:CET
DTSTART:20251026T010000
END:STANDARD
END:VTIMEZONE
BEGIN:VEVENT
DTSTART;TZID=Europe/Berlin:20251110T080000
DTEND;TZID=Europe/Berlin:20251110T180000
DTSTAMP:20260422T090536
CREATED:20250818T201128Z
LAST-MODIFIED:20250818T201355Z
UID:6803-1762761600-1762797600@www.geozentrum-ktb.de
SUMMARY:Fortbildung: Bergbaugeschichte um Schwandorf
DESCRIPTION:Zielgruppe: Mitarbeiter der Umweltstation.\n \nEin Blick in die heimatliche Bergbaugeschichte. Die Region Schwandorf/Wackersdorf ist eine historische Bergbauregion. Die Fortbildung widmet sich im ersten Teil der didaktischen Aufbereitung der Felsenkeller von Schwandorf und im zweiten Teil der Entwicklung des Ur-Naab-Flusssystems mit ihren ausgedehnten alluvial Braunkohlebildungen in Wackersdorf. Durchführung: Dr. F. Holzförster (GEO-Zentrum an der KTB)\, N.N. (Tourismus Schwandorf). \n
URL:https://www.geozentrum-ktb.de/veranstaltung/fortbildung-bergbaugeschichte-um-schwandorf/
LOCATION:GEO-Zentrum an der KTB
CATEGORIES:Geschlossene Veranstaltung
END:VEVENT
END:VCALENDAR